BEGIN:VCALENDAR
VERSION:2.0
PRODID:-//Ostdeutsches Kuratorium von Verb&auml;nden e. V. - ECPv6.15.20//NONSGML v1.0//EN
CALSCALE:GREGORIAN
METHOD:PUBLISH
X-ORIGINAL-URL:https://okv-kuratorium.org
X-WR-CALDESC:Veranstaltungen für Ostdeutsches Kuratorium von Verb&auml;nden e. V.
REFRESH-INTERVAL;VALUE=DURATION:PT1H
X-Robots-Tag:noindex
X-PUBLISHED-TTL:PT1H
BEGIN:VTIMEZONE
TZID:Europe/Berlin
BEGIN:DAYLIGHT
TZOFFSETFROM:+0100
TZOFFSETTO:+0200
TZNAME:CEST
DTSTART:20250330T010000
END:DAYLIGHT
BEGIN:STANDARD
TZOFFSETFROM:+0200
TZOFFSETTO:+0100
TZNAME:CET
DTSTART:20251026T010000
END:STANDARD
BEGIN:DAYLIGHT
TZOFFSETFROM:+0100
TZOFFSETTO:+0200
TZNAME:CEST
DTSTART:20260329T010000
END:DAYLIGHT
BEGIN:STANDARD
TZOFFSETFROM:+0200
TZOFFSETTO:+0100
TZNAME:CET
DTSTART:20261025T010000
END:STANDARD
BEGIN:DAYLIGHT
TZOFFSETFROM:+0100
TZOFFSETTO:+0200
TZNAME:CEST
DTSTART:20270328T010000
END:DAYLIGHT
BEGIN:STANDARD
TZOFFSETFROM:+0200
TZOFFSETTO:+0100
TZNAME:CET
DTSTART:20271031T010000
END:STANDARD
END:VTIMEZONE
BEGIN:VEVENT
DTSTART;VALUE=DATE:20260326
DTEND;VALUE=DATE:20260329
DTSTAMP:20260424T133432
CREATED:20260212T111402Z
LAST-MODIFIED:20260219T122456Z
UID:2191-1774483200-1774742399@okv-kuratorium.org
SUMMARY:Kongreß der Neuen Gesellschaft für Psychologie 2026
DESCRIPTION:Kongress vom 26. bis 29. März 2026 ACHTUNG: NEUER VERANSTALTUNGSORT\nRasende Zerstörung\nUrsachen und ökonomische\, politische und psychosoziale Folgen der Kriegsvorbereitung \nDie Anmeldung zum NGfP-Kongress 2026 ist bis zum 10. März möglich.\nOrt: Xelor Kesselhaus\, Mittelbuschweg 10\, 12055 Berlin-Neukölln\nEintritt: 200 € (Solidarbeitrag) – 130 € (regulär) – 60 € (ermäßigt nach Selbsteinschätzung)\n\nEmpfänger: Neue Gesellschaft für Psychologie e.V.\nIBAN: DE56 8309 4495 0003 4129 11\nBIC: GENODEF1ETK\n\nKontakt: Anmerkungen und Fragen schicken Sie gerne an: kongress2026@ngfp.de\nRasende Zerstörung\nUrsachen und ökonomische\, politische und psychosoziale Folgen der Kriegsvorbereitung \n\n\n\n\n\n\nAnmeldung: https://www.ngfp.de/
URL:https://okv-kuratorium.org/event/kongress-der-neuen-gesellschaft-fuer-psychologie-2026/
LOCATION:Kesselhaus\, Mittelbuschweg 10\, Berlin\, Berlin\, 12055\, Germany
CATEGORIES:Kongress
END:VEVENT
END:VCALENDAR