BEGIN:VCALENDAR
VERSION:2.0
PRODID:-//Ostdeutsches Kuratorium von Verb&auml;nden e. V. - ECPv6.15.20//NONSGML v1.0//EN
CALSCALE:GREGORIAN
METHOD:PUBLISH
X-WR-CALNAME:Ostdeutsches Kuratorium von Verb&auml;nden e. V.
X-ORIGINAL-URL:https://okv-kuratorium.org
X-WR-CALDESC:Veranstaltungen für Ostdeutsches Kuratorium von Verb&auml;nden e. V.
REFRESH-INTERVAL;VALUE=DURATION:PT1H
X-Robots-Tag:noindex
X-PUBLISHED-TTL:PT1H
BEGIN:VTIMEZONE
TZID:Europe/Berlin
BEGIN:DAYLIGHT
TZOFFSETFROM:+0100
TZOFFSETTO:+0200
TZNAME:CEST
DTSTART:20240331T010000
END:DAYLIGHT
BEGIN:STANDARD
TZOFFSETFROM:+0200
TZOFFSETTO:+0100
TZNAME:CET
DTSTART:20241027T010000
END:STANDARD
BEGIN:DAYLIGHT
TZOFFSETFROM:+0100
TZOFFSETTO:+0200
TZNAME:CEST
DTSTART:20250330T010000
END:DAYLIGHT
BEGIN:STANDARD
TZOFFSETFROM:+0200
TZOFFSETTO:+0100
TZNAME:CET
DTSTART:20251026T010000
END:STANDARD
BEGIN:DAYLIGHT
TZOFFSETFROM:+0100
TZOFFSETTO:+0200
TZNAME:CEST
DTSTART:20260329T010000
END:DAYLIGHT
BEGIN:STANDARD
TZOFFSETFROM:+0200
TZOFFSETTO:+0100
TZNAME:CET
DTSTART:20261025T010000
END:STANDARD
END:VTIMEZONE
BEGIN:VEVENT
DTSTART;TZID=Europe/Berlin:20251113T100000
DTEND;TZID=Europe/Berlin:20251113T123000
DTSTAMP:20260424T172131
CREATED:20250716T204332Z
LAST-MODIFIED:20250716T204332Z
UID:1854-1763028000-1763037000@okv-kuratorium.org
SUMMARY:Freundeskreis Kultur- und Bildungsreisen: Einladung zu unserer Herbstveranstaltung 2025
DESCRIPTION:Donnerstag\, 13. November 2025\,\nFranz-Mehring-Platz 1\, Münzbergsaal \nEinlass ab 9:30 Uhr \nWir bereiten folgendes Programm vor: \n> „Konrad Wolf – Sowjetsoldat und Künstlerpersönlichkeit“\nErinnerungen an den 80. Jahrestag der Befreiung vom Faschismus und den\n100. Geburtstag von Konrad Wolf.\nReferent: Paul Werner Wagner\, Literaturwissenschaftler und exzellenter Kenner\nvon Leben und Werk Konrad Wolfs\n> Dr. Carola Weiß stellt das Reiseprogramm für das Jahr 2026 vor.\nReiseflyer liegen aus\, Reiseanmeldungen können vorgenommen werden.\n> Wir begrüßen Isabel Neuenfeldt mit ihrem Akkordeon. \n\nKostenbeitrag: ca. 10\,00 € p.P. (zahlbar am VA-Tag)\nAnmeldung: ab sofort bei der Leiterin des Freundeskreises\, Dr. Carola Weiß\nTel. und WhatsApp: 0173-610 25 12\nE-Mail: gbm.dr.weiss@gmail.com\n \nDie Mitglieder und Sympathisanten des Freundeskreises sowie von GRH\, ISOR\,\nSportsenioren\, des Fördervereins RotFuchs und weiterer im OKV vertretener Vereine\nsind herzlich eingeladen.\n \nCarola Weiß
URL:https://okv-kuratorium.org/event/freundeskreis-kultur-und-bildungsreisen-einladung-zu-unserer-herbstveranstaltung-2025/
LOCATION:Franz-Mehring-Platz 1\, Franz-Mehring-Platz 1\, Berlin
ORGANIZER;CN="Freundeskreis Kultur- und Bildungsreisen":MAILTO:gbm.dr.weiss@gmail.com
END:VEVENT
END:VCALENDAR